Workbook
Name qwer: #REF!
Name qwer: #REF!
Name アメリカ: #REF!
Name アメリカ: #REF!
Name 愛知: 'R8年3月労務単価'!$X$4:$X$7
Name 愛知: #REF!
Name 愛媛: 'R8年3月労務単価'!$AN$4:$AN$7
Name 愛媛: #REF!
Name 茨城: 'R8年3月労務単価'!$J$4:$J$7
Name 茨城: #REF!
Name 印刷1: '250L'!印刷1
Name 印刷1: #N/A
Name 印刷1: 施工費!印刷1
Name 印刷1: [0]!印刷1
Name 印刷20: '250L'!印刷20
Name 印刷20: #N/A
Name 印刷20: 施工費!印刷20
Name 印刷20: [0]!印刷20
Name 印刷3: '250L'!印刷3
Name 印刷3: #N/A
Name 印刷3: 施工費!印刷3
Name 印刷3: [0]!印刷3
Name 岡山: 'R8年3月労務単価'!$AI$4:$AI$7
Name 岡山: #REF!
Name 沖縄: 'R8年3月労務単価'!$AW$4:$AW$7
Name 沖縄: #REF!
Name 関東: 'R8年3月労務単価'!$J$11
Name 関東: #REF!
Name 岩手: 'R8年3月労務単価'!$E$4:$E$7
Name 岩手: #REF!
Name 岐阜: 'R8年3月労務単価'!$V$4:$V$7
Name 岐阜: #REF!
Name 宮崎: 'R8年3月労務単価'!$AU$4:$AU$7
Name 宮崎: #REF!
Name 宮城: 'R8年3月労務単価'!$F$4:$F$7
Name 宮城: #REF!
Name 京都: 'R8年3月労務単価'!$AB$4:$AB$7
Name 京都: #REF!
Name 近畿: 'R8年3月労務単価'!$Z$11
Name 近畿: #REF!
Name 九州: 'R8年3月労務単価'!$AP$11
Name 九州: #REF!
Name 熊本: 'R8年3月労務単価'!$AS$4:$AS$7
Name 熊本: #REF!
Name 群馬: 'R8年3月労務単価'!$L$4:$L$7
Name 群馬: #REF!
Name 広島: 'R8年3月労務単価'!$AJ$4:$AJ$7
Name 広島: #REF!
Name 香川: 'R8年3月労務単価'!$AM$4:$AM$7
Name 香川: #REF!
Name 高知: 'R8年3月労務単価'!$AO$4:$AO$7
Name 高知: #REF!
Name 佐賀: 'R8年3月労務単価'!$AQ$4:$AQ$7
Name 佐賀: #REF!
Name 埼玉: 'R8年3月労務単価'!$M$4:$M$7
Name 埼玉: #REF!
Name 三重: 'R8年3月労務単価'!$Y$4:$Y$7
Name 三重: #REF!
Name 山形: 'R8年3月労務単価'!$H$4:$H$7
Name 山形: #REF!

Sheet 入力
B2: ・施工費ワークシートにおいて
C3: 1．代価①バックホウ クローラ型 クレーン機能付 2.9t吊 山積0.8㎥
C4: 燃料費（軽油）、機械損料の工事する県における単価を入れる（O24、O25）
C6: 2．代価②ラフテレーンクレーン 油圧伸縮ジブ型 4.9ｔ吊
C7: 燃料費（軽油）、機械損料の工事する県における単価を入れる（O34、O35）
B9: ・労務単価ワークシートにおいて
C10: 1．年度当初に単価を入力する
B13: ・下記の背景が黄色の部分の入力
C14: 設計労務単価の県の入力 | W14: 北海道 | X14: 青森 | Y14: 岩手 | Z14: 宮城 | AA14: 秋田 | AB14: 山形 | AC14: 福島 | AD14: 茨城 | AE14: 栃木 | AF14: 群馬 | AG14: 埼玉 | AH14: 千葉 | AI14: 東京 | AJ14: 神奈川 | AK14: 山梨 | AL14: 長野 | AM14: 新潟 | AN14: 富山 | AO14: 石川 | AP14: 岐阜 | AQ14: 静岡 | AR14: 愛知 | AS14: 三重 | AT14: 福井 | AU14: 滋賀 | AV14: 京都 | AW14: 大阪 | AX14: 兵庫 | AY14: 奈良 | AZ14: 和歌山 | BA14: 鳥取 | BB14: 島根 | BC14: 岡山 | BD14: 広島 | BE14: 山口 | BF14: 徳島 | BG14: 香川 | BH14: 愛媛 | BI14: 高知 | BJ14: 福岡 | BK14: 佐賀 | BL14: 長崎 | BM14: 熊本 | BN14: 大分 | BO14: 宮崎 | BP14: 鹿児島 | BQ14: 沖縄
C15: 和歌山 | E15: ※年度がかわった場合は、『セルの書式設定－表示形式－ユーザー定義』にて年を変更する。 | W15: 北海道 | X15: 東北 | AD15: 関東 | AM15: 北陸 | AP15: 中部 | AT15: 近畿 | BA15: 中国 | BF15: 四国 | BJ15: 九州 | BQ15: 沖縄
W16: 東北
C17: トラッククレーン賃料の地方の選択 | W17: 関東
C18: 近畿 | E18: ※年度がかわった場合は、『セルの書式設定－表示形式－ユーザー定義』にて年を変更する。 | W18: 北陸
W19: 中部
W20: 近畿
C21: 令和8年3月 | E21: ※設計労務単価の年度を入力する | W21: 中国
W22: 四国
W23: 九州
C24: 令和8年4月建設物価 | E24: ※燃料費単価の年度を入力する | W24: 沖縄
C27: 令和8年度国土交通省土木工事積算基準 | E27: ※燃料費数量積算基準の年度を入力する
C30: 令和8年度機械等損料表 | E30: ※機械損料単価の年度を入力する
R31: 札幌 | S31: 函館 | T31: 室蘭 | U31: 旭川 | V31: 帯広 | W31: 釧路 | X31: 青森 | Y31: 盛岡 | Z31: 仙台 | AA31: 秋田 | AB31: 山形 | AC31: 福島 | AD31: 水戸 | AE31: 宇都宮 | AF31: 前橋 | AG31: さいたま | AH31: 千葉 | AI31: 東京 | AJ31: 横浜 | AK31: 甲府 | AL31: 長野 | AM31: 新潟 | AN31: 富山 | AO31: 金沢 | AP31: 岐阜 | AQ31: 静岡 | AR31: 名古屋 | AS31: 津 | AT31: 福井 | AU31: 大津 | AV31: 京都 | AW31: 大阪 | AX31: 神戸 | AY31: 奈良 | AZ31: 和歌山 | BA31: 鳥取 | BB31: 松江 | BC31: 岡山 | BD31: 広島 | BE31: 山口 | BF31: 徳島 | BG31: 高松 | BH31: 松山 | BI31: 高知 | BJ31: 福岡 | BK31: 佐賀 | BL31: 長崎 | BM31: 熊本 | BN31: 大分 | BO31: 宮崎 | BP31: 鹿児島 | BQ31: 那覇
C32: 工費・砕石の地域の入力 | R32: 札幌
C33: 和歌山 | R33: 函館
R34: 小樽
C35: 燃料費の地域の入力 | R35: 旭川
C36: 和歌山 | R36: 室蘭
R37: 釧路
R38: 帯広
R39: 網走
R40: 青森
R41: 弘前
R42: 八戸
R43: 十和田
R44: むつA
R45: むつB
R46: 盛岡
R47: 宮古
R48: 大船渡
... R229: 宮古

Sheet 価格表
B2: メーカー価格表
B4: パラリンクL | E4: =入力!C15 -> 和歌山
B6: 品 番 | C6: メーカー価格 | E6: 品 番 | F6: 施工単価
C7: （円/m2） | F7: (円/㎡)
B8: 50 | C8: 710 | E8: 50L | F8: =#REF! -> #REF!
B9: 100 | C9: 770 | E9: 100L | F9: =F8 -> #REF!
B10: 150 | C10: 820 | E10: 150L | F10: ='150L,200L'!I36 -> #REF!
B11: 200 | C11: 980 | E11: 200L | F11: =F10 -> #REF!
B12: 250 | C12: 1100 | E12: 250L | F12: ='250L'!I36 -> #REF!
B13: 300 | C13: 1140 | E13: 300L | F13: ='300L'!I36 -> #REF!
B14: 400 | C14: 1650 | E14: 400L | F14: ='400L以上'!I36 -> #REF!
B15: 500 | C15: 2000 | E15: 500L | F15: =F14 -> #REF!
B16: 600 | C16: 2070 | E16: 600L | F16: =F14 -> #REF!
B17: 700 | C17: 2560 | E17: 700L | F17: =F14 -> #REF!
B18: 800 | C18: 2630 | E18: 800L | F18: =F14 -> #REF!
B19: 900 | C19: 3250 | E19: 900L | F19: =F14 -> #REF!
B20: 1000 | C20: 3390 | E20: 1000L | F20: =F14 -> #REF!
E24: 敷設費のみ | F24: =施工費!#REF! -> #REF!

Sheet 150L,200L
B2: パラリンク150L,200L 敷設工費用内訳
B4: 名称 | D4: 規格 | F4: 単位 | G4: 数量 | H4: 単価 | I4: 金額 | J4: 摘要
B5: １．材料費
B6: パラリンク | D6: 200 | F6: ㎡ | G6: 1 | H6: =VLOOKUP(D6,価格表!B8:C20,2,FALSE) -> 980 | I6: =G6*H6 -> 980
B8: ２．敷設費 | F8: ㎡ | G8: =G6 -> 1 | H8: =ROUND($I$36,0) -> #REF! | I8: =G8*H8 -> #REF! | J8: 単価内訳1
B10: ３．パラリンク敷設冶具 | F10: 式 | G10: 1 | H10: 50000 | I10: =G10*H10 -> 50000
C12: 合計 | I12: =SUM(I6:I11) -> #REF!
B16: １．パラリンク敷設費単価内訳 | L16: 運転１日当たり単価表
B17: （150L、200L） | J17: 2000㎡当り
B18: 名称 | D18: 規格 | F18: 単位 | G18: 数量 | H18: 単価 | I18: 金額 | J18: 摘要 | L18: 代価①バックホウ クローラ型 クレーン機能付 2.9t吊 山積0.8㎥
B19: 労務費 | L19: 排出ガス対策型（第２次基準値）
B20: 世話役 | F20: 人 | G20: 1 | H20: =#REF! -> #REF! | I20: =G20*H20 -> #REF! | J20: =#REF! -> #REF!
B21: 普通作業員 | F21: 人 | G21: 2 | H21: =#REF! -> #REF! | I21: =G21*H21 -> #REF! | J21: =#REF! -> #REF! | L21: 名 称 | M21: 規格 | N21: 単位 | O21: 数量 | P21: 単価 | Q21: 金額 | R21: 備考
C22: 小計 | I22: =SUM(I20:I21) -> #REF! | L22: 運転手（特殊） | N22: 人 | O22: 1 | P22: =#REF! -> #REF! | Q22: =O22*P22 -> #REF!
B23: 材料費 | L23: 燃料費 | M23: 軽油 | N23: ℓ | O23: =#REF! -> #REF! | P23: =#REF! -> #REF! | Q23: =O23*P23 -> #REF! | R23: 小型ローリー
B24: パラピン | D24: 0.1本／㎡ | F24: 本 | G24: 200 | H24: 170 | I24: =G24*H24 -> 34000 | L24: 機械損料 | N24: 日 | O24: 1 | P24: =#REF! -> #REF! | Q24: =O24*P24 -> #REF!
B25: 接続金具 | D25: 0.023個／㎡ | F25: 個 | G25: 46 | H25: 1900 | I25: =G25*H25 -> 87400 | J25: 下記参照 | L25: 諸雑費 | N25: 式 | O25: 1 | Q25: =Q26-SUM(Q22:Q24) -> #REF!
C26: 小計 | I26: =SUM(I24:I25) -> 121400 | L26: 合計 | Q26: =ROUNDUP(SUM(Q22:Q24),-2) -> #REF!
B28: 重機運転経費
B29: バックホウ | D29: クレーン機能付（山積0.8㎥） | F29: 日 | G29: 1 | H29: =ROUND($Q$26,0) -> #REF! | I29: =G29*H29 -> #REF! | J29: 代価①
B30: トラッククレーン（荷卸） | D30: 油圧4.9ｔ吊 | F30: 日 | G30: 0.125 | H30: =#REF! -> #REF! | I30: =G30*H30 -> #REF! | J30: 代価② | L30: 代価②トラッククレーン 油圧伸縮ジブ型 4.9ｔ吊
C31: 小計 | I31: =SUM(I29:I30) -> #REF!
L32: 名 称 | M32: 規格 | N32: 単位 | O32: 数量 | P32: 単価 | Q32: 金額 | R32: 備考
C33: 計①（材料費除く） | I33: =I22+I31 -> #REF! | L33: 運転手（特殊） | N33: 人 | O33: 1 | P33: =#REF! -> #REF! | Q33: =O33*P33 -> #REF!
B34: 諸経費 | D34: 白線用石灰等 | F34: 式 | G34: 1 | I34: =ROUND(I33*0.01,0) -> #REF! | J34: 計①の1％ | L34: 燃料費 | M34: 軽油 | N34: ℓ | O34: =#REF! -> #REF! | P34: =#REF! -> #REF! | Q34: =O34*P34 -> #REF! | R34: 小型ローリー
C35: 合計 | I35: =I22+I34+I26+I31 -> #REF! | L35: 機械損料 | N35: 日 | O35: 1 | P35: =#REF! -> #REF! | Q35: =O35*P35 -> #REF!
H36: 施工単価 | I36: =ROUND(I35/2000,0) -> #REF! | J36: 円/㎡ | L36: 諸雑費 | N36: 式 | O36: 1 | Q36: =Q37-SUM(Q33:Q35) -> #REF!
L37: 合計 | Q37: =ROUNDUP(SUM(Q33:Q35),-2) -> #REF!
B38: ２．吊冶具損料 | P38: =入力!C18 -> 近畿 | Q38: =#REF! -> #REF!
B39: 一現場当りの固定費とする。
B41: 品名 | D41: 規格 | F41: 単位 | G41: 数量 | H41: 単価 | I41: 備考
B42: パラリンク吊冶具 | D42: 専用吊冶具（1ｔ） | F42: 式 | G42: 1 | H42: 50000 | I42: 返却運賃込み | L42: 註： | M42: 労務単価… | O42: =入力!C15 -> 和歌山
M43: 燃料費数量… | O43: =入力!C27 -> 令和8年度国土交通省土木工事積算基準
M44: 燃料費単価… | O44: =入力!C24 -> 令和8年4月建設物価
M45: 機械損料単価… | O45: =入力!C30 -> 令和8年度機械等損料表
B46: ※パラリンク敷設工2000㎡当りの歩掛り
B47: 名称 | D47: 規格 | F47: 単位 | G47: 数量 | H47: 備考
B48: 世話役 | F48: 人 | G48: 1
B49: 普通作業員 | F49: 人 | G49: 2
B51: バックホウ運転 | D51: クレーン機能付（山積0.8㎥） | F51: 日 | G51: 1 | H51: 排出ガス対策型（第２次基準値）
...

Sheet 250L
B2: パラリンク250L 敷設工費用内訳
B4: 名称 | D4: 規格 | F4: 単位 | G4: 数量 | H4: 単価 | I4: 金額 | J4: 摘要
B5: １．材料費
B6: パラリンク | D6: 250 | F6: ㎡ | G6: 1 | H6: =VLOOKUP(D6,価格表!B8:C20,2,FALSE) -> 1100 | I6: =G6*H6 -> 1100
B8: ２．敷設費 | F8: ㎡ | G8: =G6 -> 1 | H8: =$I$36 -> #REF! | I8: =G8*H8 -> #REF! | J8: 単価内訳1
B10: ３．パラリンク敷設冶具 | F10: 式 | G10: 1 | H10: 50000 | I10: =G10*H10 -> 50000
C12: 合計 | I12: =SUM(I6:I11) -> #REF!
B16: １．パラリンク敷設費単価内訳 | L16: 運転１日当たり単価表
B17: （250L） | J17: 2000㎡当り
B18: 名称 | D18: 規格 | F18: 単位 | G18: 数量 | H18: 単価 | I18: 金額 | J18: 摘要 | L18: 代価①バックホウ クローラ型 クレーン機能付 2.9t吊 山積0.8㎥
B19: 労務費 | L19: 排出ガス対策型（第２次基準値）
B20: 世話役 | F20: 人 | G20: 1 | H20: =#REF! -> #REF! | I20: =G20*H20 -> #REF! | J20: =#REF! -> #REF!
B21: 普通作業員 | F21: 人 | G21: 2 | H21: =#REF! -> #REF! | I21: =G21*H21 -> #REF! | J21: =#REF! -> #REF! | L21: 名 称 | M21: 規格 | N21: 単位 | O21: 数量 | P21: 単価 | Q21: 金額 | R21: 備考
C22: 小計 | I22: =SUM(I20:I21) -> #REF! | L22: 運転手（特殊） | N22: 人 | O22: 1 | P22: =#REF! -> #REF! | Q22: =O22*P22 -> #REF!
B23: 材料費 | L23: 燃料費 | M23: 軽油 | N23: ℓ | O23: =#REF! -> #REF! | P23: =#REF! -> #REF! | Q23: =O23*P23 -> #REF! | R23: 小型ローリー
B24: パラピン | D24: 0.1本／㎡ | F24: 本 | G24: 200 | H24: 170 | I24: =G24*H24 -> 34000 | L24: 機械損料 | N24: 日 | O24: 1 | P24: =#REF! -> #REF! | Q24: =O24*P24 -> #REF!
B25: 接続金具 | D25: 0.023個／㎡ | F25: 個 | G25: 46 | H25: 3800 | I25: =G25*H25 -> 174800 | J25: 下記参照 | L25: 諸雑費 | N25: 式 | O25: 1 | Q25: =Q26-SUM(Q22:Q24) -> #REF!
C26: 小計 | I26: =SUM(I24:I25) -> 208800 | L26: 合計 | Q26: =ROUNDUP(SUM(Q22:Q24),-2) -> #REF!
B28: 重機運転経費
B29: バックホウ | D29: クレーン機能付（山積0.8㎥） | F29: 日 | G29: 1 | H29: =$Q$26 -> #REF! | I29: =G29*H29 -> #REF! | J29: 代価①
B30: トラッククレーン（荷卸） | D30: 油圧4.9ｔ吊 | F30: 日 | G30: 0.125 | H30: =#REF! -> #REF! | I30: =G30*H30 -> #REF! | J30: 代価② | L30: 代価②トラッククレーン 油圧伸縮ジブ型 4.9ｔ吊
C31: 小計 | I31: =SUM(I29:I30) -> #REF!
L32: 名 称 | M32: 規格 | N32: 単位 | O32: 数量 | P32: 単価 | Q32: 金額 | R32: 備考
C33: 計①（材料費除く） | I33: =I22+I31 -> #REF! | L33: 運転手（特殊） | N33: 人 | O33: 1 | P33: =#REF! -> #REF! | Q33: =O33*P33 -> #REF!
B34: 諸経費 | D34: 白線用石灰等 | F34: 式 | G34: 1 | I34: =ROUND(I33*0.01,0) -> #REF! | J34: 計①の1％ | L34: 燃料費 | M34: 軽油 | N34: ℓ | O34: =#REF! -> #REF! | P34: =#REF! -> #REF! | Q34: =O34*P34 -> #REF! | R34: 小型ローリー
C35: 合計 | I35: =I22+I34+I26+I31 -> #REF! | L35: 機械損料 | N35: 日 | O35: 1 | P35: =#REF! -> #REF! | Q35: =O35*P35 -> #REF!
H36: 施工単価 | I36: =ROUND(I35/2000,0) -> #REF! | J36: 円/㎡ | L36: 諸雑費 | N36: 式 | O36: 1 | Q36: =Q37-SUM(Q33:Q35) -> #REF!
L37: 合計 | Q37: =ROUNDUP(SUM(Q33:Q35),-2) -> #REF!
B38: ２．吊冶具損料 | P38: =入力!C18 -> 近畿 | Q38: =#REF! -> #REF!
B39: 一現場当りの固定費とする。
B41: 品名 | D41: 規格 | F41: 単位 | G41: 数量 | H41: 単価 | I41: 備考
B42: パラリンク吊冶具 | D42: 専用吊冶具（1ｔ） | F42: 式 | G42: 1 | H42: 50000 | I42: 返却運賃込み | L42: 註： | M42: 労務単価… | O42: =入力!C15 -> 和歌山
M43: 燃料費数量… | O43: =入力!C27 -> 令和8年度国土交通省土木工事積算基準
M44: 燃料費単価… | O44: =入力!C24 -> 令和8年4月建設物価
M45: 機械損料単価… | O45: =入力!C30 -> 令和8年度機械等損料表
B46: ※パラリンク敷設工2000㎡当りの歩掛り
B47: 名称 | D47: 規格 | F47: 単位 | G47: 数量 | H47: 備考
B48: 世話役 | F48: 人 | G48: 1
B49: 普通作業員 | F49: 人 | G49: 2
B51: バックホウ運転 | D51: クレーン機能付（山積0.8㎥） | F51: 日 | G51: 1 | H51: 排出ガス対策型（第２次基準値）
...

Sheet 300L
B2: パラリンク300L 敷設工費用内訳
B4: 名称 | D4: 規格 | F4: 単位 | G4: 数量 | H4: 単価 | I4: 金額 | J4: 摘要
B5: １．材料費
B6: パラリンク | D6: 300 | F6: ㎡ | G6: 1 | H6: =VLOOKUP(D6,価格表!B8:C20,2,FALSE) -> 1140 | I6: =G6*H6 -> 1140
B8: ２．敷設費 | F8: ㎡ | G8: =G6 -> 1 | H8: =$I$36 -> #REF! | I8: =G8*H8 -> #REF! | J8: 単価内訳1
B10: ３．パラリンク敷設冶具 | F10: 式 | G10: 1 | H10: 50000 | I10: =G10*H10 -> 50000
C12: 合計 | I12: =SUM(I6:I11) -> #REF!
B16: １．パラリンク敷設費単価内訳 | L16: 運転１日当たり単価表
B17: （300L） | J17: 2000㎡当り
B18: 名称 | D18: 規格 | F18: 単位 | G18: 数量 | H18: 単価 | I18: 金額 | J18: 摘要 | L18: 代価①バックホウ クローラ型 クレーン機能付 2.9t吊 山積0.8㎥
B19: 労務費 | L19: 排出ガス対策型（第２次基準値）
B20: 世話役 | F20: 人 | G20: 1 | H20: =#REF! -> #REF! | I20: =G20*H20 -> #REF! | J20: =#REF! -> #REF!
B21: 普通作業員 | F21: 人 | G21: 2 | H21: =#REF! -> #REF! | I21: =G21*H21 -> #REF! | J21: =#REF! -> #REF! | L21: 名 称 | M21: 規格 | N21: 単位 | O21: 数量 | P21: 単価 | Q21: 金額 | R21: 備考
C22: 小計 | I22: =SUM(I20:I21) -> #REF! | L22: 運転手（特殊） | N22: 人 | O22: 1 | P22: =#REF! -> #REF! | Q22: =O22*P22 -> #REF!
B23: 材料費 | L23: 燃料費 | M23: 軽油 | N23: ℓ | O23: =#REF! -> #REF! | P23: =#REF! -> #REF! | Q23: =O23*P23 -> #REF! | R23: 小型ローリー
B24: パラピン | D24: 0.1本／㎡ | F24: 本 | G24: 200 | H24: 170 | I24: =G24*H24 -> 34000 | L24: 機械損料 | N24: 日 | O24: 1 | P24: =#REF! -> #REF! | Q24: =O24*P24 -> #REF!
B25: 接続金具 | D25: 0.025個／㎡ | F25: 個 | G25: 50 | H25: 3800 | I25: =G25*H25 -> 190000 | J25: 下記参照 | L25: 諸雑費 | N25: 式 | O25: 1 | Q25: =Q26-SUM(Q22:Q24) -> #REF!
C26: 小計 | I26: =SUM(I24:I25) -> 224000 | L26: 合計 | Q26: =ROUNDUP(SUM(Q22:Q24),-2) -> #REF!
B28: 重機運転経費
B29: バックホウ | D29: クレーン機能付（山積0.8㎥） | F29: 日 | G29: 1 | H29: =$Q$26 -> #REF! | I29: =G29*H29 -> #REF! | J29: 代価①
B30: トラッククレーン（荷卸） | D30: 油圧4.9ｔ吊 | F30: 日 | G30: 0.125 | H30: =#REF! -> #REF! | I30: =G30*H30 -> #REF! | J30: 代価② | L30: 代価②トラッククレーン 油圧伸縮ジブ型 4.9ｔ吊
C31: 小計 | I31: =SUM(I29:I30) -> #REF!
L32: 名 称 | M32: 規格 | N32: 単位 | O32: 数量 | P32: 単価 | Q32: 金額 | R32: 備考
C33: 計①（材料費除く） | I33: =I22+I31 -> #REF! | L33: 運転手（特殊） | N33: 人 | O33: 1 | P33: =#REF! -> #REF! | Q33: =O33*P33 -> #REF!
B34: 諸経費 | D34: 白線用石灰等 | F34: 式 | G34: 1 | I34: =ROUND(I33*0.01,0) -> #REF! | J34: 計①の1％ | L34: 燃料費 | M34: 軽油 | N34: ℓ | O34: =#REF! -> #REF! | P34: =#REF! -> #REF! | Q34: =O34*P34 -> #REF! | R34: 小型ローリー
C35: 合計 | I35: =I22+I34+I26+I31 -> #REF! | L35: 機械損料 | N35: 日 | O35: 1 | P35: =#REF! -> #REF! | Q35: =O35*P35 -> #REF!
H36: 施工単価 | I36: =ROUND(I35/2000,0) -> #REF! | J36: 円/㎡ | L36: 諸雑費 | N36: 式 | O36: 1 | Q36: =Q37-SUM(Q33:Q35) -> #REF!
L37: 合計 | Q37: =ROUNDUP(SUM(Q33:Q35),-2) -> #REF!
B38: ２．吊冶具損料 | P38: =入力!C18 -> 近畿 | Q38: =#REF! -> #REF!
B39: 一現場当りの固定費とする。
B41: 品名 | D41: 規格 | F41: 単位 | G41: 数量 | H41: 単価 | I41: 備考
B42: パラリンク吊冶具 | D42: 専用吊冶具（1ｔ） | F42: 式 | G42: 1 | H42: 50000 | I42: 返却運賃込み | L42: 註： | M42: 労務単価… | O42: =入力!C15 -> 和歌山
M43: 燃料費数量… | O43: =入力!C27 -> 令和8年度国土交通省土木工事積算基準
M44: 燃料費単価… | O44: =入力!C24 -> 令和8年4月建設物価
M45: 機械損料単価… | O45: =入力!C30 -> 令和8年度機械等損料表
B46: ※パラリンク敷設工2000㎡当りの歩掛り
B47: 名称 | D47: 規格 | F47: 単位 | G47: 数量 | H47: 備考
B48: 世話役 | F48: 人 | G48: 1
B49: 普通作業員 | F49: 人 | G49: 2
B51: バックホウ運転 | D51: クレーン機能付（山積0.8㎥） | F51: 日 | G51: 1 | H51: 排出ガス対策型（第２次基準値）
...

Sheet 400L以上
B2: パラリンク400L以上 敷設工費用内訳
B4: 名称 | D4: 規格 | F4: 単位 | G4: 数量 | H4: 単価 | I4: 金額 | J4: 摘要
B5: １．材料費
B6: パラリンク | D6: 400 | F6: ㎡ | G6: 1 | H6: =VLOOKUP(D6,価格表!B8:C20,2,FALSE) -> 1650 | I6: =G6*H6 -> 1650
B8: ２．敷設費 | F8: ㎡ | G8: =G6 -> 1 | H8: =$I$36 -> #REF! | I8: =G8*H8 -> #REF! | J8: 単価内訳1
B10: ３．パラリンク敷設冶具 | F10: 式 | G10: 1 | H10: 50000 | I10: =G10*H10 -> 50000
C12: 合計 | I12: =SUM(I6:I11) -> #REF!
B16: １．パラリンク敷設費単価内訳 | L16: 運転１日当たり単価表
B17: （400L以上） | J17: 2000㎡当り
B18: 名称 | D18: 規格 | F18: 単位 | G18: 数量 | H18: 単価 | I18: 金額 | J18: 摘要 | L18: 代価①バックホウ クローラ型 クレーン機能付 2.9t吊 山積0.8㎥
B19: 労務費 | L19: 排出ガス対策型（第２次基準値）
B20: 世話役 | F20: 人 | G20: 1 | H20: =#REF! -> #REF! | I20: =G20*H20 -> #REF! | J20: =#REF! -> #REF!
B21: 普通作業員 | F21: 人 | G21: 2 | H21: =#REF! -> #REF! | I21: =G21*H21 -> #REF! | J21: =#REF! -> #REF! | L21: 名 称 | M21: 規格 | N21: 単位 | O21: 数量 | P21: 単価 | Q21: 金額 | R21: 備考
C22: 小計 | I22: =SUM(I20:I21) -> #REF! | L22: 運転手（特殊） | N22: 人 | O22: 1 | P22: =#REF! -> #REF! | Q22: =O22*P22 -> #REF!
B23: 材料費 | L23: 燃料費 | M23: 軽油 | N23: ℓ | O23: =#REF! -> #REF! | P23: =#REF! -> #REF! | Q23: =O23*P23 -> #REF! | R23: 小型ローリー
B24: パラピン | D24: 0.1本／㎡ | F24: 本 | G24: 200 | H24: 170 | I24: =G24*H24 -> 34000 | L24: 機械損料 | N24: 日 | O24: 1 | P24: =#REF! -> #REF! | Q24: =O24*P24 -> #REF!
B25: 接続金具 | F25: 個 | L25: 諸雑費 | N25: 式 | O25: 1 | Q25: =Q26-SUM(Q22:Q24) -> #REF!
C26: 小計 | I26: =SUM(I24:I25) -> 34000 | L26: 合計 | Q26: =ROUNDUP(SUM(Q22:Q24),-2) -> #REF!
B28: 重機運転経費
B29: バックホウ | D29: クレーン機能付（山積0.8㎥） | F29: 日 | G29: 1 | H29: =$Q$26 -> #REF! | I29: =G29*H29 -> #REF! | J29: 代価①
B30: トラッククレーン（荷卸） | D30: 油圧4.9ｔ吊 | F30: 日 | G30: 0.125 | H30: =#REF! -> #REF! | I30: =G30*H30 -> #REF! | J30: 代価② | L30: 代価②トラッククレーン 油圧伸縮ジブ型 4.9ｔ吊
C31: 小計 | I31: =SUM(I29:I30) -> #REF!
L32: 名 称 | M32: 規格 | N32: 単位 | O32: 数量 | P32: 単価 | Q32: 金額 | R32: 備考
C33: 計①（材料費除く） | I33: =I22+I31 -> #REF! | L33: 運転手（特殊） | N33: 人 | O33: 1 | P33: =#REF! -> #REF! | Q33: =O33*P33 -> #REF!
B34: 諸経費 | D34: 白線用石灰等 | F34: 式 | G34: 1 | I34: =ROUND(I33*0.01,0) -> #REF! | J34: 計①の1％ | L34: 燃料費 | M34: 軽油 | N34: ℓ | O34: =#REF! -> #REF! | P34: =#REF! -> #REF! | Q34: =O34*P34 -> #REF! | R34: 小型ローリー
C35: 合計 | I35: =I22+I34+I26+I31 -> #REF! | L35: 機械損料 | N35: 日 | O35: 1 | P35: =#REF! -> #REF! | Q35: =O35*P35 -> #REF!
H36: 施工単価 | I36: =ROUND(I35/2000,0) -> #REF! | J36: 円/㎡ | L36: 諸雑費 | N36: 式 | O36: 1 | Q36: =Q37-SUM(Q33:Q35) -> #REF!
L37: 合計 | Q37: =ROUNDUP(SUM(Q33:Q35),-2) -> #REF!
B38: ２．吊冶具損料 | P38: =入力!C18 -> 近畿 | Q38: =#REF! -> #REF!
B39: 一現場当りの固定費とする。
B41: 品名 | D41: 規格 | F41: 単位 | G41: 数量 | H41: 単価 | I41: 備考
B42: パラリンク吊冶具 | D42: 専用吊冶具（1ｔ） | F42: 式 | G42: 1 | H42: 50000 | I42: 返却運賃込み | L42: 註： | M42: 労務単価… | O42: =入力!C15 -> 和歌山
M43: 燃料費数量… | O43: =入力!C27 -> 令和8年度国土交通省土木工事積算基準
M44: 燃料費単価… | O44: =入力!C24 -> 令和8年4月建設物価
M45: 機械損料単価… | O45: =入力!C30 -> 令和8年度機械等損料表
B46: ※パラリンク敷設工2000㎡当りの歩掛り
B47: 名称 | D47: 規格 | F47: 単位 | G47: 数量 | H47: 備考
B48: 世話役 | F48: 人 | G48: 1
B49: 普通作業員 | F49: 人 | G49: 2
B51: バックホウ運転 | D51: クレーン機能付（山積0.8㎥） | F51: 日 | G51: 1 | H51: 排出ガス対策型（第２次基準値）
...

Sheet 施工費
B2: テラメッシュ工法（TMS） 概算工費
B3: 基盤排水層のり止め用 | J3: 1セット当たり
B4: 名称 | D4: 規格 | F4: 単位 | G4: 数量 | H4: 単価 | I4: 金額 | J4: 摘要
B5: １．材料費
B6: テラメッシュ | D6: （2×1×1×3） | F6: set | G6: 1 | H6: 32600 | I6: =G6*H6 -> 32600
B7: Cリンガー | F7: 式 | H7: 25000 | I7: =G7*H7 -> 0
B8: Cリング | F8: 発 | G8: =G6*60 -> 60 | H8: 32 | I8: =G8*H8 -> 1920
B9: レーシングワイヤー | F9: m | G9: =G6*4 -> 4 | H9: 38 | I9: =G9*H9 -> 152
B11: 不織布 | D11: t=10mm | F11: ㎡ | G11: =G15*1.25 -> 2.625 | H11: 580 | I11: =G11*H11 -> 1522.5 | J11: 材料ロス込
B13: ２．施工費
B14: テラメッシュ組立 | D14: 中詰材含む | F14: 壁㎡ | G14: =+G6*2 -> 2 | H14: =I45 -> 19808 | I14: =G14*H14 -> 39616 | J14: 単価内訳1
B15: 不織布敷設 | D15: t=10mm | F15: ㎡ | G15: =G6*(1+0.025*2)*2 -> 2.1 | H15: =I53 -> 96.8 | I15: =G15*H15 -> 203.28 | J15: 単価内訳4
B17: ３．運賃負担 | F17: 式 | G17: 1 | H17: 200000 | I17: =G17*H17 -> 200000
C19: 合計 | I19: =SUM(I6:I18) -> 276013.78 | J19: 円 | L19: 運転１日当たり単価表
B20: ※盛土部の土工費は含みません。
B21: ※税抜価格です。 | L21: 代価①バックホウ クローラ型 クレーン機能付 2.9t吊 山積0.8㎥
B22: ※テラメッシュ100セット以下の場合、運賃（千葉県より出荷）が別途かかります。 | L22: 排出ガス対策型（第２次基準値）
B24: １．テラメッシュ組立費単価内訳 | L24: 名 称 | M24: 規格 | N24: 単位 | O24: 数量 | P24: 単価 | Q24: 金額 | R24: 備考
J25: 10壁㎡当り | L25: 運転手（特殊） | N25: 人 | O25: 1 | P25: ='R8年3月労務単価'!A7 -> 25400 | Q25: =O25*P25 -> 25400 | T25: 令和8年度機械等損料表P110
B26: 名称 | D26: 規格 | F26: 単位 | G26: 数量 | H26: 単価 | I26: 金額 | J26: 摘要 | L26: 燃料費 | M26: 軽油 | N26: ℓ | O26: =ROUND(104*0.144*ROUND(690/120,1),1) -> 86.9 | P26: ='R8年4月燃料費'!A4 -> 129 | Q26: =O26*P26 -> 11210.1 | R26: 小型ローリー | T26: 時間当り燃料消費量＝機関出力×時間当り燃料消費量
B27: 詰め石割栗石 | D27: 100～250mm | F27: m3 | G27: =10*0.95 -> 9.5 | H27: ='R8年工費・砕石'!B2 -> 3450 | I27: =G27*H27 -> 32775 | J27: 令和8年4月 | L27: 機械損料 | N27: 日 | O27: 1 | P27: 18400 | Q27: =O27*P27 -> 18400 | T27: (3)運転時間÷(4)運転日数＝690÷120＝5.75＝5.8時間
L28: 諸雑費 | N28: 式 | O28: 1 | Q28: =Q29-SUM(Q25:Q27) -> 89.9 | T28: ※燃料消費量＝104×0.144×5.8
B29: 労務費 | L29: 合計 | Q29: =ROUNDUP(SUM(Q25:Q27),-2) -> 55100
B30: 世話役 | F30: 人 | G30: 1 | H30: ='R8年3月労務単価'!A4 -> 31000 | I30: =G30*H30 -> 31000 | J30: =入力!C21 -> 令和8年3月
B31: 普通作業員 | F31: 人 | G31: 2 | H31: ='R8年3月労務単価'!A5 -> 24200 | I31: =G31*H31 -> 48400 | J31: =J30 -> 令和8年3月
B32: 特殊作業員 | F32: 人 | G32: 1 | H32: ='R8年3月労務単価'!A6 -> 27100 | I32: =G32*H32 -> 27100 | J32: =J30 -> 令和8年3月 | L32: 代価②ラフテレーンクレーン 油圧伸縮ジブ型 4.9ｔ吊
C33: 小計① | I33: =SUM(I30:I32) -> 106500 | L33: 排出ガス対策型（第２次基準値）
B35: 重機運転経費 | L35: 名称 | Q35: 金額 | R35: 備考
B36: バックホウ | D36: クレーン機能付（山積0.8㎥） | F36: 日 | G36: 0.5 | H36: =$Q$29 -> 55100 | I36: =G36*H36 -> 27550 | J36: 代価① | L36: =入力!$C$18 -> 近畿 | Q36: ='R8年3月労務単価'!A11 -> 49000
B37: ダンプトラック | D37: 4ｔ積 | F37: 日 | G37: 0.5 | H37: =$Q$47 -> 39200 | I37: =G37*H37 -> 19600 | J37: 代価③
B39: 電動コンプレッサー | D39: 吐出量0.75㎥/min | F39: 日 | G39: 1 | H39: 1000 | I39: =G39*H39 -> 1000
I40: =G40*H40 -> 0 | L40: 代価③ダンプトラック ディーゼル4t積
B41: 単管傾斜足場 | D41: 安全ネットなし（壁高≧2mは計上） | F41: 壁㎡ | I41: =G41*H41 -> 0
L42: 名 称 | M42: 規格 | N42: 単位 | O42: 数量 | P42: 単価 | Q42: 金額 | R42: 備考
B43: 諸雑費 | F43: 式 | G43: 1 | I43: =ROUND(I33*0.1,0) -> 10650 | J43: 計①の10％ | L43: 運転手（特殊） | N43: 人 | O43: 1 | P43: ='R8年3月労務単価'!A7 -> 25400 | Q43: =O43*P43 -> 25400 | T43: 令和8年度機械等損料表P128
C44: 合計 | I44: =I27+I33+I36+I41+I43+I37+I39 -> 198075 | L44: 燃料費 | M44: 軽油 | N44: ℓ | O44: =ROUND(135*0.04*ROUND(810/140,1),1) -> 31.3 | P44: =+P26 -> 129 | Q44: =O44*P44 -> 4037.7 | R44: 小型ローリー | T44: 時間当り燃料消費量＝機関出力×時間当り燃料消費量
H45: 施工単価 | I45: =ROUND(I44/10,0) -> 19808 | J45: 円/壁㎡ | L45: 機械損料 | N45: 日 | O45: 1 | P45: 9760 | Q45: =O45*P45 -> 9760 | T45: (3)運転時間÷(4)運転日数＝810÷140＝5.785＝5.8時間
L46: 諸雑費 | N46: 式 | O46: 1 | Q46: =Q47-SUM(Q43:Q45) -> 2.3 | T46: ※燃料消費量＝135×0.040×5.8
L47: 合計 | Q47: =ROUNDUP(SUM(Q43:Q45),-2) -> 39200
B48: ２．不織布敷設工単価内訳
...

Sheet R8年3月労務単価
B2: 令和8年3月公共工事設計労務単価
A3: =入力!C15 -> 和歌山 | B3: 都道府県名 | C3: 北海道 | D3: 青森 | E3: 岩手 | F3: 宮城 | G3: 秋田 | H3: 山形 | I3: 福島 | J3: 茨城 | K3: 栃木 | L3: 群馬 | M3: 埼玉 | N3: 千葉 | O3: 東京 | P3: 神奈川 | Q3: 山梨 | R3: 長野 | S3: 新潟 | T3: 富山 | U3: 石川 | V3: 岐阜 | W3: 静岡 | X3: 愛知 | Y3: 三重 | Z3: 福井 | AA3: 滋賀 | AB3: 京都 | AC3: 大阪 | AD3: 兵庫 | AE3: 奈良 | AF3: 和歌山 | AG3: 鳥取 | AH3: 島根 | AI3: 岡山 | AJ3: 広島 | AK3: 山口 | AL3: 徳島 | AM3: 香川 | AN3: 愛媛 | AO3: 高知 | AP3: 福岡 | AQ3: 佐賀 | AR3: 長崎 | AS3: 熊本 | AT3: 大分 | AU3: 宮崎 | AV3: 鹿児島 | AW3: 沖縄
A4: =INDIRECT(A$3) -> 31000 | B4: 世話役 | C4: 29900 | D4: 35500 | E4: 35300 | F4: 35600 | G4: 36800 | H4: 34300 | I4: 32600 | J4: 32200 | K4: 32600 | L4: 32300 | M4: 32700 | N4: 33400 | O4: 34400 | P4: 34800 | Q4: 33300 | R4: 32100 | S4: 29000 | T4: 31200 | U4: 33500 | V4: 31500 | W4: 31600 | X4: 31300 | Y4: 30400 | Z4: 29800 | AA4: 30100 | AB4: 29700 | AC4: 30800 | AD4: 29300 | AE4: 31000 | AF4: 31000 | AG4: 26900 | AH4: 25900 | AI4: 27800 | AJ4: 26800 | AK4: 27600 | AL4: 28600 | AM4: 28800 | AN4: 29700 | AO4: 28000 | AP4: 33200 | AQ4: 31800 | AR4: 31500 | AS4: 32300 | AT4: 33100 | AU4: 33400 | AV4: 36100 | AW4: 35000
A5: =INDIRECT(A$3) -> 24200 | B5: 普通作業員 | C5: 21500 | D5: 22200 | E5: 23700 | F5: 23600 | G5: 22500 | H5: 22500 | I5: 23700 | J5: 25400 | K5: 24300 | L5: 25300 | M5: 25900 | N5: 25500 | O5: 27000 | P5: 26800 | Q5: 26900 | R5: 24600 | S5: 24300 | T5: 26100 | U5: 27000 | V5: 25400 | W5: 26600 | X5: 25200 | Y5: 24500 | Z5: 21900 | AA5: 23300 | AB5: 24400 | AC5: 23800 | AD5: 24100 | AE5: 24000 | AF5: 24200 | AG5: 18200 | AH5: 19700 | AI5: 21500 | AJ5: 22200 | AK5: 20500 | AL5: 24100 | AM5: 25000 | AN5: 21500 | AO5: 21900 | AP5: 24100 | AQ5: 20700 | AR5: 21900 | AS5: 22100 | AT5: 21000 | AU5: 20300 | AV5: 21900 | AW5: 23300
A6: =INDIRECT(A$3) -> 27100 | B6: 特殊作業員 | C6: 26000 | D6: 30100 | E6: 28500 | F6: 30300 | G6: 28400 | H6: 28500 | I6: 30600 | J6: 27200 | K6: 27500 | L6: 27100 | M6: 29000 | N6: 30000 | O6: 30700 | P6: 30900 | Q6: 29700 | R6: 28400 | S6: 28900 | T6: 32700 | U6: 31600 | V6: 28800 | W6: 28400 | X6: 29800 | Y6: 28700 | Z6: 26500 | AA6: 26700 | AB6: 26100 | AC6: 27800 | AD6: 25100 | AE6: 28100 | AF6: 27100 | AG6: 23600 | AH6: 24100 | AI6: 25600 | AJ6: 25800 | AK6: 24100 | AL6: 26300 | AM6: 27500 | AN6: 25500 | AO6: 25200 | AP6: 29000 | AQ6: 25700 | AR6: 27000 | AS6: 27100 | AT6: 26300 | AU6: 29100 | AV6: 32000 | AW6: 28500
A7: =INDIRECT(A$3) -> 25400 | B7: 運転手（特殊） | C7: 27100 | D7: 34400 | E7: 33600 | F7: 35300 | G7: 33200 | H7: 31300 | I7: 30200 | J7: 30300 | K7: 27900 | L7: 27900 | M7: 31700 | N7: 30800 | O7: 31100 | P7: 32200 | Q7: 31300 | R7: 27700 | S7: 28200 | T7: 30200 | U7: 29700 | V7: 31200 | W7: 30300 | X7: 30600 | Y7: 30200 | Z7: 26400 | AA7: 27400 | AB7: 26000 | AC7: 27900 | AD7: 26300 | AE7: 27100 | AF7: 25400 | AG7: 21600 | AH7: 23700 | AI7: 25600 | AJ7: 25900 | AK7: 24000 | AL7: 24300 | AM7: 26300 | AN7: 26400 | AO7: 26800 | AP7: 28200 | AQ7: 31200 | AR7: 26700 | AS7: 27400 | AT7: 29800 | AU7: 29600 | AV7: 32700 | AW7: 32400
B9: 建設物価機械賃料 | D9: 2026年4月 P809
A10: =入力!C18 -> 近畿 | B10: 地区名 | C10: 北海道 | D10: 東北 | J10: 関東 | S10: 北陸 | V10: 中部 | Z10: 近畿 | AG10: 中国 | AL10: 四国 | AP10: 九州 | AW10: 沖縄
A11: =IF(A10="北海道",C11,IF(A10="沖縄",AW11,INDIRECT(A$10))) -> 49000 | B11: ﾗﾌﾃﾚｰﾝｸﾚｰﾝ賃料 | C11: 56000 | D11: 52000 | J11: 52000 | S11: 50000 | V11: 50000 | Z11: 49000 | AG11: 52000 | AL11: 49000 | AP11: 49000 | AW11: 50000

Sheet R8年工費・砕石
A1: R8年4月 | B1: =入力!C33 -> 和歌山 | C1: 地域 | E1: 割グリ石 | F1: RC40 | G1: C40 | H1: 函館 | I1: 旧函館
A2: 割グリ石 | B2: =VLOOKUP($B$1,$D$2:$G$199,2,FALSE) -> 3450 | C2: 北海道 | D2: 札幌 | E2: 6400 | F2: 3000 | G2: 5000 | H2: 釧路 | I2: 旧釧路市
A3: RC40 | B3: =VLOOKUP($B$1,$D$2:$G$199,3,FALSE) -> 1400 | D3: 函館 | E3: 5900 | F3: 3100 | G3: 4700 | H3: むつA | I3: 旧むつ市
A4: C40 | B4: =VLOOKUP($B$1,$D$2:$G$199,4,FALSE) -> 3000 | D4: 小樽 | E4: 6300 | F4: 3000 | G4: 4600 | H4: むつB | I4: 旧脇野沢村
D5: 旭川 | E5: - | F5: 3400 | G5: 3800 | H5: 石巻A | I5: 旧石巻市
D6: 室蘭 | E6: 6800 | F6: 3600 | G6: 5200 | H6: 石巻B | I6: 旧雄勝町
D7: 釧路 | E7: 6100 | F7: 5600 | G7: 5600 | H7: 由利本荘A | I7: 旧本庄市
D8: 帯広 | E8: - | F8: 3300 | G8: 4150 | H8: 由利本荘B | I8: 旧矢島町
D9: 網走 | E9: 7000 | F9: 4500 | G9: 4500 | H9: 日光A | I9: 日光地区
C10: 青森 | D10: 青森 | E10: 4800 | F10: 3200 | G10: 4200 | H10: 日光B | I10: 今市地区
D11: 弘前 | E11: 5000 | F11: 3000 | G11: 4200 | H11: さいたまA | I11: 浦和地区
D12: 八戸 | E12: 5100 | F12: 3200 | G12: 4300 | H12: さいたまAB | I12: 大宮地区
D13: 十和田 | E13: 5800 | F13: 3200 | G13: 5000 | H13: 東京17区 | I13: 千代田区、中央区、港区、新宿区、文京区、品川区、目黒区、大田区、世田谷区、渋谷区、中野区、杉並区、豊島区、北区、板橋区、練馬区、足立区
D14: むつA | E14: 4700 | F14: 3200 | G14: 4500 | H14: 東京6区 | I14: 台東区、墨田区、江東区、荒川区、葛飾区、江戸川区
D15: むつB | E15: 5000 | F15: 3500 | G15: 4800 | H15: 長野A | I15: 旧長野市
C16: 岩手 | D16: 盛岡 | E16: 3900 | F16: 2800 | G16: 3200 | H16: 長野B | I16: 旧信州新町
D17: 宮古 | E17: 3800 | F17: 2800 | G17: 3400 | H17: 松本A | I17: 旧松本市
D18: 大船渡 | E18: 4400 | F18: 2500 | G18: 4500 | H18: 松本B | I18: 旧奈川村、旧安曇村
D19: 釜石 | E19: 3900 | F19: 2600 | G19: 3500 | H19: 熊野A | I19: 旧木本町、旧神志村山（金山）、旧有井村
D20: 二戸 | E20: 4400 | F20: 3700 | G20: 3800 | H20: 熊野B | I20: 旧泊村、旧新鹿村、旧荒坂村、旧飛鳥村、旧五郷村、旧神河村
D21: 奥州 | E21: 3500 | F21: 2700 | G21: 3200 | H21: 京都A | I21: 旧京都市
C22: 宮城 | D22: 仙台 | E22: 4800 | F22: 2300 | G22: 3200 | H22: 京都B | I22: 旧京北町
D23: 石巻A | E23: 4100 | F23: 2500 | G23: 2900 | H23: 奈良 | I23: 旧奈良市
D24: 石巻B | E24: 4600 | F24: 3000 | G24: 3400 | H24: 五條 | I24: 旧五條市
D25: 気仙沼 | E25: - | F25: 2500 | G25: 3300 | H25: 田辺 | I25: 旧田辺市
D26: 白石 | E26: 4500 | F26: 2500 | G26: 3300 | H26: 倉敷A | I26: 高梁川以東地区
D27: 大崎 | E27: 4500 | F27: 2200 | G27: 2900 | H27: 倉敷B | I27: 高梁川以西地区(旧真備町を除く)
C28: 秋田 | D28: 秋田 | E28: 4100 | F28: 2600 | G28: 3900 | H28: 松山A | I28: 旧松山市
D29: 能代 | E29: 4100 | F29: 2600 | G29: 3600 | H29: 松山B | I29: 旧北条市
D30: 横手 | E30: 5000 | F30: 2800 | G30: 4300 | H30: 四万十 | I30: 旧中村市
D31: 大館 | E31: 5400 | F31: 2800 | G31: 4500 | H31: 佐賀 | I31: 旧探し
D32: 由利本荘A | E32: 5800 | F32: 2600 | G32: 5300 | H32: 唐津 | I32: 旧唐津市・旧北波多村
D33: 由利本荘B | E33: 5800 | F33: - | G33: 5200 | H33: 熊本 | I33: 旧熊本市
C34: 山形 | D34: 山形 | E34: 4400 | F34: 2450 | G34: 3000 | H34: 八代 | I34: 旧八代市八代市
D35: 米沢 | E35: - | F35: 2500 | G35: 4000 | H35: 阿蘇 | I35: 旧阿蘇市
D36: 酒田 | E36: - | F36: 3400 | G36: 4800 | H36: 大分 | I36: 旧大分市
D37: 新庄 | E37: 5600 | F37: 2600 | G37: 4000 | H37: 中津 | I37: 中津市東部
D38: 村山 | E38: - | F38: 2450 | G38: 3000 | H38: 佐伯 | I38: 旧佐伯市
C39: 福島 | D39: 福島 | E39: 4300 | F39: 2000 | G39: 3900 | H39: 宮崎 | I39: 旧宮崎市
D40: 会津 | E40: 4800 | F40: 2500 | G40: 4000 | H40: 都城A | I40: 旧都城市
...

Sheet R8年4月燃料費
B2: 令和8年4月建設物価価格
A3: =入力!C36 -> 和歌山 | B3: 市町村 | C3: 札幌 | D3: 函館 | E3: 室蘭 | F3: 旭川 | G3: 帯広 | H3: 釧路 | I3: 青森 | J3: 盛岡 | K3: 仙台 | L3: 秋田 | M3: 山形 | N3: 福島 | O3: 水戸 | P3: 宇都宮 | Q3: 前橋 | R3: さいたま | S3: 千葉 | T3: 東京 | U3: 横浜 | V3: 甲府 | W3: 長野 | X3: 新潟 | Y3: 富山 | Z3: 金沢 | AA3: 岐阜 | AB3: 静岡 | AC3: 名古屋 | AD3: 津 | AE3: 福井 | AF3: 大津 | AG3: 京都 | AH3: 大阪 | AI3: 神戸 | AJ3: 奈良 | AK3: 和歌山 | AL3: 鳥取 | AM3: 松江 | AN3: 岡山 | AO3: 広島 | AP3: 山口 | AQ3: 徳島 | AR3: 高松 | AS3: 松山 | AT3: 高知 | AU3: 福岡 | AV3: 佐賀 | AW3: 長崎 | AX3: 熊本 | AY3: 大分 | AZ3: 宮崎 | BA3: 鹿児島 | BB3: 那覇
A4: =HLOOKUP(A3,B3:BB4,2,FALSE) -> 129 | B4: 燃料費 | C4: 129 | D4: 128 | E4: 130 | F4: 130 | G4: 130 | H4: 128 | I4: 135 | J4: 131 | K4: 131 | L4: 134 | M4: 138 | N4: 137 | O4: 132 | P4: 133 | Q4: 133 | R4: 132 | S4: 132 | T4: 132 | U4: 132 | V4: 134 | W4: 135 | X4: 134 | Y4: 137 | Z4: 131 | AA4: 134 | AB4: 135 | AC4: 133 | AD4: 133 | AE4: 133 | AF4: 130 | AG4: 132 | AH4: 131 | AI4: 131 | AJ4: 130 | AK4: 129 | AL4: 144 | AM4: 144 | AN4: 141 | AO4: 142 | AP4: 141 | AQ4: 129 | AR4: 135 | AS4: 133 | AT4: 137 | AU4: 131 | AV4: 131 | AW4: 136 | AX4: 131 | AY4: 135 | AZ4: 135 | BA4: 136 | BB4: 137
